BEGIN:VCALENDAR
VERSION:2.0
PRODID:-//tempeaction.org//NONSGML kigkonsult.se iCalcreator 2.30.10//
CALSCALE:GREGORIAN
METHOD:PUBLISH
UID:f26279af-1347-446d-80be-f8dd1eee6dd3
X-WR-CALDESC:Want to learn more about what TCAA does? See staff and volunte
 ers in action!\nWe invite you to attend a tour. Space is limited\, so don’
 t delay!\n\nUpon arrival\, please park in an uncovered space. The address 
 for the tour is 2146 E Apache Blvd. Tempe\, AZ 85281.
X-WR-RELCALID:d53d7d48e2bced0c9e1aa7d472bffbe0
X-WR-TIMEZONE:America/Phoenix
BEGIN:VTIMEZONE
TZID:America/Phoenix
BEGIN:STANDARD
TZNAME:MST
DTSTART:20230522T070000
TZOFFSETFROM:+0000
TZOFFSETTO:-0700
END:STANDARD
END:VTIMEZONE
BEGIN:VEVENT
UID:a225a246-60f3-41f5-ab26-eac9a449dca0
DTSTAMP:20260423T171711Z
DESCRIPTION:Want to learn more about what TCAA does? See staff and voluntee
 rs in action!\nWe invite you to attend a tour. Space is limited\, so don’t
  delay!\n\nUpon arrival\, please park in an uncovered space. The address f
 or the tour is 2146 E Apache Blvd. Tempe\, AZ 85281.
DTSTART;TZID=America/Phoenix:20250220T170000
DTEND;TZID=America/Phoenix:20250220T180000
LOCATION:2146 E. Apache Blvd. Tempe\, AZ 85281
SUMMARY:Take a Tour!
END:VEVENT
END:VCALENDAR
